BEGIN:VCALENDAR
VERSION:2.0
PRODID:-//eventon.com NONSGML v1.0//EN
CALSCALE:GREGORIAN
METHOD:PUBLISH
BEGIN:VEVENT
UID:69ecb9ba49b2c
DTSTAMP:20260425T125522Z
DTSTART:20260506T183000Z
DTEND:20260506T221900Z
LOCATION:The Black Horse\,  Climping Climping St\,  Atherington\,  Littlehampton BN17 5RL
SUMMARY:The Black Horse
DESCRIPTION:\nhttps://somptingvillagemorris.org.uk/events/the-black-horse-3
 /
URL:https://somptingvillagemorris.org.uk/events/the-black-horse-3/
END:VEVENT
END:VCALENDAR